BEGIN:VCALENDAR
VERSION:2.0
PRODID:-//ChamberMaster//Event Calendar 2.0//EN
METHOD:PUBLISH
X-PUBLISHED-TTL:P3D
REFRESH-INTERVAL:P3D
CALSCALE:GREGORIAN
BEGIN:VEVENT
DTSTART:20210305T160000Z
DTEND:20210305T210000Z
X-MICROSOFT-CDO-ALLDAYEVENT:FALSE
SUMMARY:Homeschool Program: Spring Awaking (Maple Syrup)
DESCRIPTION:More information on Admission and fees on the website: https://www.ymcanorth.org/camps/camp_st_croix/schools_retreats__group_rentals/homeschool_program/day_programs
X-ALT-DESC;FMTTYPE=text/html:More information on Admission and fees on the website: https://www.ymcanorth.org/camps/camp_st_croix/schools_retreats__group_rentals/homeschool_program/day_programs
LOCATION:532 Co. Rd. F Hudson\, WI 54016 YMCA Camp St. Croix
UID:e.2450.18778
SEQUENCE:3
DTSTAMP:20260420T171642Z
URL:http://hudsonwi.chambermaster.com/events/details/homeschool-program-spring-awaking-maple-syrup-18778
END:VEVENT

END:VCALENDAR
